BEGIN:VCALENDAR
VERSION:2.0
PRODID:spatie/icalendar-generator
DESCRIPTION:Events from LA LA Mahjong
X-WR-CALDESC:Events from LA LA Mahjong
REFRESH-INTERVAL;VALUE=DURATION:PT1440M
X-PUBLISHED-TTL:PT1440M
BEGIN:VTIMEZONE
TZID:Etc/GMT+0
BEGIN:STANDARD
DTSTART:20250407T190000Z
TZOFFSETFROM:+0000
TZOFFSETTO:+0000
END:STANDARD
END:VTIMEZONE
BEGIN:VTIMEZONE
TZID:UTC
BEGIN:STANDARD
DTSTART:20250725T094435Z
TZOFFSETFROM:+0000
TZOFFSETTO:+0000
END:STANDARD
END:VTIMEZONE
BEGIN:VEVENT
UID:5-5
DTSTAMP:20260421T094435Z
SUMMARY:American Mahjong Beginner 101
LOCATION:Lafayette Square 1102 Saint Charles Place  Los Angeles CA 90019
ORGANIZER;CN=LA LA Mahjong:MAILTO:lisa@lalamahjong.com
DTSTART;TZID=Etc/GMT+0:20260102T190000
DTEND;TZID=Etc/GMT+0:20260102T213000
X-ALT-DESC;FMTTYPE=TEXT/HTML:
CATEGORIES:General
URL;VALUE=URI:https://lalamahjong.com/mc-events/american-mahjong-beginner-1
 01/
METHOD:PUBLISH
END:VEVENT
END:VCALENDAR